BEGIN:VCALENDAR
VERSION:2.0
PRODID:-//TYPO3/NONSGML Calendarize//EN
BEGIN:VEVENT
UID:calendarize-stationssingen-krankenhausandachten-frankfurt-oder-2026042
 3
DTSTAMP:20230502T121641Z
DTSTART:20260423T170000Z
SUMMARY:Stationssingen und Krankenhausandachten Frankfurt (Oder)
DESCRIPTION:
X-ALT-DESC;FMTTYPE=text/html:
LOCATION:Evangelisches Krankenhaus Lutherstift Frankfurt (Oder)
END:VEVENT
BEGIN:VEVENT
UID:calendarize-andacht-zum-wochenstart-hospiz-luckau-2-5-1-1-3-1
DTSTAMP:20260219T114115Z
DTSTART:20260427T113000Z
SUMMARY:Andacht zum Wochenstart Hospiz Luckau
DESCRIPTION:Daniel Petters
X-ALT-DESC;FMTTYPE=text/html:<p>Daniel Petters</p>
LOCATION:Evangelisches Hospiz Luckau
END:VEVENT
END:VCALENDAR
